Workbook

Sheet Summary
A1: The summary below provides an overview of where the partnership is percieved to be by each participant in the research. Individual statements for each area can be seen on the individaul tab below. Each statement that has been identified within the tool is given a numerical weighting of one.
A3: Strategic Planning
A4: Initial | B4: Emerging | C4: Established | D4: Extending
A5: ='Strategic planning '!A1 -> Membership and representation
A6: =SUM('Strategic planning '!B2) -> 0 | B6: =SUM('Strategic planning '!D2) -> 0 | C6: =SUM('Strategic planning '!F2) -> 0 | D6: =SUM('Strategic planning '!H2) -> 0
A7: ='Strategic planning '!A11 -> Vision, mission and strategy
A8: =SUM('Strategic planning '!B12) -> 0 | B8: =SUM('Strategic planning '!D12) -> 0 | C8: ='Strategic planning '!F12 -> 0 | D8: ='Strategic planning '!H12 -> 0
A9: ='Strategic planning '!A17 -> Funding
A10: ='Strategic planning '!B18 -> 0 | B10: =SUM('Strategic planning '!D18) -> 0 | C10: ='Strategic planning '!F18 -> 0 | D10: ='Strategic planning '!H18 -> 0
A11: ='Strategic planning '!A22 -> Operating structures and processes
A12: ='Strategic planning '!B23 -> 0 | B12: ='Strategic planning '!D23 -> 0 | C12: ='Strategic planning '!F23 -> 0 | D12: ='Strategic planning '!H23 -> 0
A13: ='Strategic planning '!A29 -> Leadership
A14: ='Strategic planning '!B30 -> 0 | B14: ='Strategic planning '!D30 -> 0 | C14: ='Strategic planning '!F30 -> 0 | D14: ='Strategic planning '!H30 -> 0
A15: ='Strategic planning '!A35 -> Accountability
A16: ='Strategic planning '!B36 -> 0 | B16: ='Strategic planning '!D36 -> 0 | C16: ='Strategic planning '!F36 -> 0 | D16: ='Strategic planning '!H36 -> 0
A17: ='Strategic planning '!A41 -> Learner Voice
A18: =SUM('Strategic planning '!B42) -> 0 | B18: =SUM('Strategic planning '!D42) -> 0 | C18: =SUM('Strategic planning '!F42) -> 0 | D18: =SUM('Strategic planning '!H42) -> 0
A21: Provision
A22: Initial | B22: Emerging | C22: Established | D22: Extending
A23: =Provision!A1 -> Identifying needs
A24: =Provision!B2 -> 0 | B24: =Provision!D2 -> 0 | C24: =Provision!F2 -> 0 | D24: =Provision!H2 -> 0
A25: =Provision!A8 -> Planning provision
A26: =Provision!B9 -> 0 | B26: =Provision!D9 -> 0 | C26: =Provision!F9 -> 0 | D26: =Provision!H9 -> 0
A27: =Provision!A14 -> Supporting progression
A28: =Provision!B15 -> 0 | B28: =Provision!D15 -> 0 | C28: =Provision!F15 -> 0 | D28: =Provision!H15 -> 0
A29: =Provision!A22 -> Welsh medium provision
A30: =Provision!B23 -> 0 | B30: =Provision!D23 -> 0 | C30: =Provision!F23 -> 0 | D30: =Provision!H23 -> 0
A33: Reaching and engaging Learners
A34: Initial | B34: Emerging | C34: Established | D34: Extending
A35: Marketing and promotion
A36: ='Reaching and engaging learners'!B2 -> 0 | B36: ='Reaching and engaging learners'!D2 -> 0 | C36: ='Reaching and engaging learners'!F2 -> 0 | D36: ='Reaching and engaging learners'!H2 -> 0
A37: Outreach
A38: ='Reaching and engaging learners'!B8 -> 0 | B38: ='Reaching and engaging learners'!D8 -> 0 | C38: ='Reaching and engaging learners'!F8 -> 0 | D38: ='Reaching and engaging learners'!H8 -> 0
A41: Quality
A42: Initial | B42: Emerging | C42: Established | D42: Extending
A43: Measuring outcomes and impact
A44: =Quality!B2 -> 0 | B44: =Quality!D2 -> 0 | C44: =Quality!F2 -> 0
A45: Quality improvement
A46: =Quality!B11 -> 0 | B46: =Quality!D11 -> 0 | C46: =Quality!F11 -> 0 | D46: =Quality!H11 -> 0
A49: Workforce
...

Sheet Strategic planning 
A1: Membership and representation
A2: Initial | B2: =SUM(B3:B6) -> 0 | C2: Emerging | D2: =SUM(D3:D7) -> 0 | E2: Established | F2: =SUM(F3:F9) -> 0 | G2: Extending | H2: =SUM(H3:H7) -> 0
A3: The Partnership consists of local authority and college, with limited engagement of other potential partners. | C3: Mapping has been carried out to identify core and wider partners and define their role within the Partnership. | E3: Core, wider and peripheral partners are strategically engaged and the roles of partners are defined and understood. | G3: The Partnership has a mature, collaborative ethos.
A4: While links exist with other potential partner organisations, these rely on personal relationships rather than formal organisational commitment. | C4: Core partners have a formalised strategic commitment to working together and developing the Partnership. | E4: Membership is regularly reviewed to identify opportunities to strengthen and extend the Partnership. | G4: The involvement of wider stakeholders for example employers, strategic leads in health, brings tangible benefits to learners, which the Partnership can evidence.
A5: The Partnership has limited local profile as an entity in itself. | C5: The Partnership involves a wider base of other providers with which it works to meet the specific needs of learners (e.g. third sector, DWP, employability providers, HE). | E5: Mechanisms are in place for learner voice to influence the work of the Partnership. | G5: The Partnership regularly reviews national and local policy priorities to enhance impact.
A6: Communication channels between partners are limited. | C6: Representation of wider partners at Partnership meetings may be inconsistent. Staff may not be at a level to make decisions or represent the Partnership effectively within their own organisation. | E6: New partners are actively engaged and recruited to address gaps and ensure that representation reflects local needs. | G6: The Partnership secures active representation on strategic groups raising awareness of the role of ACL across policy areas and building a reputation around the impact of adult learning interventions.
C7: Communication channels between partners are in place but may be ad hoc or incomplete. | E7: Partnership meetings are consistently attended by partners and participants are able to make decisions and represent the Partnership effectively within their own organisation. | G7: Learner advocates play a key role in the Partnership in terms of engagement, outreach and signposting and intelligence around demand and provision.
E8: The Partnership can draw on the expertise of staff across the membership to contribute to the mission and key priorities, achieving efficiencies, for example, in the areas of data management, marketing, progression planning.
E9: The Partnership communicates effectively with the full range of partners.
A11: Vision, mission and strategy
A12: Initial | B12: =SUM(B13:B15) -> 0 | C12: Emerging | D12: =SUM(D13:D14) -> 0 | E12: Established | F12: =SUM(F13:F15) -> 0 | G12: Extending | H12: =SUM(H13:H15) -> 0
A13: The vision and aims for the Partnership are in development, but these have not yet been agreed and communicated. | C13: The Partnership has a clear vision statement which is supported by strategic aims and objectives and has been agreed by all partners. | E13: Partners share and understand the vision and align the work of their organisations to deliver it. Individual partners understand what their role is in contributing to the strategic plan. | G13: The Partnership’s vision and strategy drive the work of the core partners in relation to ACL.
A14: A strategic plan for the Partnership, with appropriate aims and objectives, is in development but has yet to be agreed by all partners. | C14: The Partnership has a strategic plan in place which has been agreed by all partners. The plan articulates how the Partnership’s work connects to key national and regional policy drivers e.g. Wellbeing of Future Generations Act, CTER priorities, ESOL policy, Community Focused Schools; and to the work of e.g. Public Service Boards, RSPs. | E14: The strategic plan is delivered through an action plan which is monitored at senior level | G14: The vision and mission are articulated to wider strategic groups at local and national levels and a proactive position is taken to explore, influence and link to new or changing policy drivers to enhance impact.
A15: The Partnership has a vision and a strategic plan but these are not reviewed regularly by partners. | E15: The strategic plan is reviewed and refreshed in response to local data and evidence about areas for improvement. | G15: The Partnership can demonstrate its impact with regard to the aims and objectives of wider national and regional strategies.
A17: Funding
A18: Initial | B18: =SUM(B19:B20) -> 0 | C18: Emerging | D18: =SUM(D19:D20) -> 0 | E18: Established | F18: =SUM(F19:F20) -> 0 | G18: Extending | H18: =SUM(H19:H20) -> 0
A19: Resources available for the local delivery of adult community learning are not treated as part of a joined-up system. | C19: The Partnership has carried out mapping to identify all the resources currently available for adult community learning within the Partnership area. | E19: Partners collaborate to align funding to support delivery of the strategic plan based on mapping and analysis of the available resources within the local area. | G19: The Partnership routinely reviews the range of funding coming into public services across the local area and identifies where resources can be leveraged to extend and develop learning opportunities for adults.
A20: Partners plan on the basis of their individual funding streams. Alignment of funding between partners is limited. | C20: Funding is aligned to support delivery of Welsh Government priorities, and regularly reviewed to reflect changes in budgets and new opportunities. | E20: Partners pro-actively identify opportunities to develop collaborative proposals for funding from external sources. | G20: Value for money and impact on learners are routinely considered as part of decision-making on how funding should be allocated.
A22: Operating structures and processes
A23: Initial | B23: =SUM(B24:B26) -> 0 | C23: Emerging | D23: =SUM(D24:D26) -> 0 | E23: Established | F23: =SUM(F24:F27) -> 0 | G23: Extending | H23: =SUM(H24) -> 0
A24: A strategy group is in place to take forward development of the Partnership, with a regular schedule of meetings in place. | C24: There is a clear structure of strategic and operational groups in place to drive and oversee delivery of the Partnership’s aims and objectives. Terms of reference have been agreed for each group. | E24: There is an effective group structure in place, with operational groups feeding into the work of a high-level strategy group. | G24: The Partnership has equitable, open and cohesive working arrangements and demonstrates strong communication and a high level of trust between partners.
A25: A suitable group structure for delivery of the Partnership’s strategic and operational objectives is in development. | C25: A regular schedule of meetings for the various groups is in place, with participation by staff from all partners as appropriate, although attendance may be inconsistent. Working protocols on key areas such as data sharing may be under-developed. | E25: Regular, scheduled meetings of strategic and operational groups take place, attended by leaders and managers from all partners as appropriate, who contribute purposefully to the work of the Partnership.
A26: Individual representatives may struggle to commit time within their job role to Partnership activity and there is not an agreed model for resourcing Partnership working. | C26: Contributing to the work of the Partnership is recognised as a responsibility within the job role of partner representatives and some resource is allocated to Partnership working. | E26: Working protocols appropriate to the activities of the Partnership have been developed and agreed by all partners and are regularly reviewed.
E27: Partners share the resourcing of the Partnership through a sustainable model. Partners ensure that adequate resources are allocated to Partnership working.
A29: Leadership
A30: Initial | B30: =SUM(B31:B32) -> 0 | C30: Emerging | D30: =SUM(D31:D32) -> 0 | E30: Established | F30: =SUM(F31:F33) -> 0 | G30: Extending | H30: =SUM(H31:H33) -> 0
A31: A joined-up approach to adult community learning is championed by some local leaders but is not yet in place. | C31: Senior leaders within partner providers give a consistent message to their staff about the importance of a joined-up approach to adult community learning. | E31: Strategic and operational leaders consistently and actively champion the importance of a joined-up approach to adult community learning. | G31: Other local strategies refer to the Partnership’s strategy for adult community learning
A32: Leaders within partner providers work together effectively, but do not consistently promote understanding of roles and responsibilities within the Partnership and collaboration between staff at different levels as appropriate. | C32: Leaders within partner providers aim to model and promote values and behaviours that contribute to understanding of roles and responsibilities within the Partnership and collaboration between staff at different levels as appropriate | E32: Staff at different levels within partner organisations understand their roles and responsibilities within the Partnership and collaborate effectively as appropriate. | G32: Leaders within the Partnership form strategic links with other Partnerships to support the effective delivery of activity and sharing practice.
E33: The Partnership’s strategic group has good links with external stakeholders, to support wider collaboration to address local issues and priorities. | G33: Leaders within the Partnership are linked into strategic groups across the partnership area and can influence decisions and change which supports the impact of ACL delivery.
A35: Accountability
A36: Initial | B36: =SUM(B37:B39) -> 0 | C36: Emerging | D36: =SUM(D37:D39) -> 0 | E36: Established | F36: =SUM(F37:F38) -> 0 | G36: Extending | H36: =SUM(H37:H39) -> 0
A37: Partners recognise they have individual and collective responsibilities for ACL but have not defined these. | C37: An identified strategy group has lead responsibility for delivering Partnership objectives | E37: A broad and active strategy group is responsible for delivering Partnership objectives. | G37: All partners take responsibility for delivering the Partnership’s strategic outcomes.
A38: The strategy group have identified and developed key roles and responsibilities that ensure effective management duties and partnership activities. | C38: Partners are willing to share responsibility, design solutions and take action. | E38: Risks to strategic outcomes are clearly identified and articulated across the Partnership and there is a robust strategy in place to highlight and take and action. | G38: Partners have an effective working relationship, trust each other and hold each other to account.
A39: There are limited links to key roles and responsibilities which would enable accountability structures to be developed effectively. | C39: Partners have a shared understanding of objectives, success measures, risks and their role in delivering them. | G39: Partners at all levels understand the risks management processes, including how to escalate concerns about the effective functioning of the Partnership.
A41: Learner Voice
A42: Initial | B42: =SUM(B43) -> 0 | C42: Emerging | D42: =SUM(D43:D44) -> 0 | E42: Established | F42: =SUM(F43:F44) -> 0 | G42: Extending | H42: =SUM(H43:H46) -> 0
A43: Partners individually capture and use learner voice, but collaborative and strategic approaches are not yet in place. | C43: The Partnership has a learner involvement strategy. | E43: There is a clear reporting channel for learner voice captured at Partnership level into the strategic planning process. | G43: Intelligence from Partnership-wide learner voice activities consistently informs strategic planning.
C44: Collaborative approaches are in place at Partnership level to capture learner voice (e.g. annual learner surveys, learner forum meetings). | E44: Planning is in place to establish Learning Ambassadors and to use community learning representatives to reach into communities and support the signposting to provision. | G44: The Partnership evaluates the effect of learner voice and uses the findings from this to develop its approach.
G45: Learners are actively engaged in partners in planning and evaluating provision.
G46: Learning Ambassadors are in place and supported for their role as community advocates and sign posters.

Sheet Provision
A1: Identifying needs
A2: Initial | B2: =SUM(B3:B6) -> 0 | C2: Emerging | D2: =SUM(D3:D6) -> 0 | E2: Established | F2: =SUM(F3:F6) -> 0 | G2: Extending | H2: =SUM(H3:H6) -> 0
A3: Partners carry out analysis of local data to identify needs and develop their provision, but limited sharing of intelligence takes place across the Partnership. | C3: Partners use and share data from a range of sources to inform the joint planning of provision. | E3: Data sources are defined and needs analysis is conducted consistently across the Partnership to ensure that delivery planning is informed by robust evidence. | G3: The Partnership is forward thinking and makes good use of labour market intelligence and other data to anticipate and respond quickly to new and emerging needs.
C4: The Partnership actively identifies gaps in data and intelligence and makes plans to address them | E4: Local population data, labour market intelligence and learner data, e.g. WIMD, are routinely used to inform joint planning of provision. | G4: The Partnership strategically plans with other partnership areas to meet needs and find solutions.
E5: Cross-Partnership learner voice activities (e.g. surveys) are undertaken to collect data on learning needs in the community to inform curriculum planning. | G5: The Partnership highlights issues and potential risks to strategic partners and commissioners at a national and local level.
E6: The Partnership has arrangements in place to meet emerging needs and provide flexible, responsive and coordinated adult learning support (e.g. redundancy, refugees, skills gaps). | G6: The Partnership is agile enough to respond quickly to newly emerging needs and priorities, utilising the knowledge and capacity of all partners.
A8: Planning provision
A9: Initial | B9: =SUM(B10:B12) -> 0 | C9: Emerging | D9: =SUM(D10:D12) -> 0 | E9: Established | F9: =SUM(F10:F12) -> 0 | G9: Extending | H9: =SUM(H10:H12) -> 0
A10: While partners individually provide a range of courses to meet local need, there is a lack of strategic approach to planning the curriculum across the Partnership. | C10: A curriculum group has been established and coordinates Partnership-wide provision planning. | E10: Partnership-wide strategic curriculum planning takes place, with mapping and monitoring of provision across all subject areas to identify duplication and gaps. | G10: Residents have access to an appropriate mix and balance of provision to meet their learning needs.
A11: Matching of provision to local, regional and national policy drivers is patchy. | C11: Partnership-wide curriculum maps have been developed for some subject areas and include provision delivered by wider partners, e.g. Third Sector, Higher Education (HE). | E11: The Partnership works effectively to ensure that partners do not duplicate provision. | G11: The Partnership strategically plans with other Partnerships to identify how learning opportunities can be made available to learners in subject areas where local demand is low, including via online learning.
C12: Provision is matched to local, regional and national policy drivers. | E12: Where the Partnership identifies an unmet local need, it works effectively with partners to address this and may bring in new providers as appropriate.
A14: Supporting progression
A15: Initial | B15: =SUM(B16:B20) -> 0 | C15: Emerging | D15: =SUM(D16:D20) -> 0 | E15: Established | F15: =SUM(F16:F20) -> 0 | G15: Extending | H15: =SUM(H16:H20) -> 0
A16: Progression planning is not sufficiently strategic. Mapping and developing progression routes for learners is under-developed and is not routinely carried out across subject areas. | C16: Progression maps have been developed for some subject areas which map the range and level of courses delivered by core partners. | E16: Comprehensive progression maps are in place showing pathways into, through and from Partnership provision across the range of subject areas. They include provision delivered by core and wider partners and progression routes into employment. | G16: Learners experience a seamless and coherent offer, with a clear line of sight from their entry point onto Partnership provision to learning and employment goals.
A17: Learners’ aspirations and goals for progression are identified by individual partners. | C17: Partners provide information to frontline staff, tutors and learners about possible progression routes within and outside the Partnership and into employment. | E17: Structured progression sessions are integral to each course and involve staff from across the Partnership as appropriate. | G17: Recognition of Prior Learning (RPL) is embedded across the partnership and is used to enhance learners' confidence in their existing skills and learning and is used as an aid to engagement and progression.
C18: Tutors understand the full range of Partnership wide progression routes from their courses, and they are able to advise and signpost learners appropriately. | E18: Partners collaboratively plan and deliver practical support to prepare and enable learners to progress from community-based provision to FE and HE. | G18: The Partnership takes steps to track and measure progression into provision beyond its own members, through data sharing arrangements and research.
E19: Data sharing arrangements are in place to enable the Partnership to track learner progression.
E20: The Partnership plans for the use of Recognition of Prior Learning to be embedded within provision to enable engagement and progression of learners.
A22: Welsh medium provision
A23: Initial | B23: =SUM(B24:B27) -> 0 | C23: Emerging | D23: =SUM(D24:D27) -> 0 | E23: Established | F23: =SUM(F24:F27) -> 0 | G23: Extending | H23: =SUM(H24:H27) -> 0
A24: Local demand for learning through the medium of Welsh is not routinely mapped by the Partnership. | C24: The Partnership maps demand for Welsh medium provision and identifies new providers to bring into the Partnership to address gaps | E24: The Partnership is developing links with new potential partners e.g. Menter Iaith, to strengthen access for learners to provision delivered through the medium of Welsh. | G24: Learners can access a range of Welsh medium provision, with identified progression routes. | H24: 0
A25: Collaborative planning to ensure that learners can access provision delivered through the medium of Welsh is limited. | B25: 0 | D25: 0 | E25: Welsh medium and bilingual learning opportunities are actively promoted by the Partnership to encourage uptake. | F25: 0 | G25: The Partnership strategically plans with other Partnerships to make Welsh medium provision available to learners in areas of low demand, including via online learning. | H25: 0
E26: Informal and incidental use of Welsh are actively encouraged across the Partnership, with resources made available to staff to help increase their confidence and skills in using Welsh terms. | G26: Tutors across the Partnership have access to tailored professional learning to develop their skills to teach through the medium of Welsh.
G27: The Partnership actively plans its recruitment to increase the number of practitioners who can teach through the medium of Welsh/bilingually where possible

Sheet Reaching and engaging learners
A1: Marketing and promotion
A2: Initial | B2: =SUM(B3:B5) -> 0 | C2: Emerging | D2: =SUM(D3:D5) -> 0 | E2: Established | F2: =SUM(F3:F5) -> 0 | G2: Extending | H2: =SUM(H3:H5) -> 0
A3: Some joint marketing and promotion take place, but this is ad hoc and inconsistent. | C3: A Partnership wide marketing strategy has been developed. This supports joint marketing and promotion of provision and helps current and potential learners to access an overview of the course offer and progression pathways. | E3: The Partnership has a dedicated promotion and marketing sub-group using expertise to identify and develop opportunities to promote learning as widely as possible through diverse channels. | G3: Provision across the Partnership is marketed as a single offer. A unified website and social media channels provide residents with common points of information on and access to the full range of partners’ provision.
A4: The website and platforms of individual partners contain details of their provision, but these are not linked. | E4: Partners work collaboratively to maximise the local impact of national promotion campaigns e.g. Adult Learners Week. | G4: An extensive range of promotional activity is used and reviewed to target adults including working with Learner Ambassadors.
G5: Methods are reviewed and revised to reflect different target groups and their motivations and barriers to learning.
A7: Outreach
A8: Initial | B8: =SUM(B9:B10) -> 0 | C8: Emerging | D8: =SUM(D9:D10) -> 0 | E8: Established | F8: =SUM(F9:F10) -> 0 | G8: Extending | H8: =SUM(H9:H10) -> 0
A9: Learning providers work with community partners to plan and deliver engagement activities such as learning fairs and taster sessions in outreach settings. | C9: Learning providers deliver co-located engagement activities, including first steps learning, in partners’ venues. | E9: Frontline staff delivering other public services, e.g. schools, housing, debt advice, are able to signpost potential learners to provision delivered through the Partnership. | G9: Partners work together to develop new ways of reaching learners, including community-led approaches such as Learning Ambassadors and Community Learning Reps.
E10: Outreach activity is planned to bring advice and information and taster activity into communities.

Sheet Quality
A1: Measuring outcomes and impact
A2: Initial | B2: =SUM(B3:B5) -> 0 | C2: Emerging | D2: =SUM(D3:D5) -> 0 | E2: Established | F2: =SUM(F3:F6) -> 0 | G2: Extending | H2: =SUM(H3:H8) -> 0
A3: Individual providers measure learner outcomes such as completion, attainment, and progression, but joint performance measures for the Partnership have not yet been developed | C3: The Partnership has agreed joint performance measures. | E3: The Partnership collectively measures outputs and outcomes against agreed performance measures and reports evidence at national, regional, and local levels | G3: The Partnership is able to demonstrate synergies in areas such as utilising staff expertise and knowledge from across partner providers, or creating cost savings and efficiencies.
A4: ) The tracking of learner outcomes across the Partnership in an overarching manner is at an early stage | C4: The Partnership is working to develop a method of tracking and evaluating learners’ progression through its provision more effectively. | E4: Each partner understands what its individual contribution is to the achievement of Partnership targets for learner outcomes. | G4: The Partnership is able to have transparent, trusting conversations about learner outcomes, agree remedial action where required, and use the expertise within and beyond the Partnership to support improvements where required
A5: It is recognised that a joined_x0002_up approach to recording and measuring learner movement across or between levels is needed. | C5: Some analysis has been undertaken to understand differences in outcomes for learners from different demographics and those with protected characteristics. | E5: The Partnership has an effective model in place to track learner progression through its provision | G5: Analysis of data on learners’ progression into, within and beyond provision offered through the Partnership demonstrates the effectiveness of collaborative planning.
E6: The findings from progression tracking are routinely reviewed to identify blocks and barriers at learner and course level, and enable partners to work collaboratively to develop solutions. | G6: The Partnership makes strategic use of outcomes data to demonstrate the value and impact of adult community learning to national, regional and local policy priorities.
G7: There is clear evidence of the positive impact of Partnership-wide quality improvement processes on teaching and learning.
G8: The Partnership highlights the impact of provision through learner case studies, award ceremonies and linking to opportunities for national recognition.
A10: Quality improvement
A11: Initial | B11: =SUM(B12:B14) -> 0 | C11: Emerging | D11: =SUM(D12:D14) -> 0 | E11: Established | F11: =SUM(F12:F16) -> 0 | G11: Extending | H11: =SUM(H12:H14) -> 0
A12: Partnership wide systems for accessing and using data to underpin shared quality improvement are under-developed. | C12: The Partnership structure includes a dedicated group with responsibility for quality. | E12: The Partnership has robust and wellplanned self-evaluation processes in place to which all partners contribute, underpinned by effective systems to access and use data | G12: The Partnership uses evidence from its self-evaluation and quality improvement processes to embed a culture of continuous learning and development shared by all partners.
A13: Collaborative planning on quality improvement is at an early stage. | C13: A joint high-level plan for quality improvement has been developed and agreed by partners. | E13: The Partnership’s quality group monitors and reviews its selfevaluation report and quality improvement plan. | G13: Learner voice provides clear evidence of the impact of collaborative working on the learner experience.
A14: There is little or no cross Partnership observation or monitoring to build shared understanding of the overall quality of provision. | C14: Core partners take part in joint visits, observations and standardisation | E14: Clear priorities for quality improvement are defined and actions identified to deliver these. Learner voice is integral to the Partnership’s approach to quality improvement. | G14: Staff across the Partnership are able to collaborate and share expertise in order to improve their practice and support one another.
E15: Good practice is systematically identified and shared across the Partnership.
E16: Learner voice is integral to the Partnership’s approach to quality improvement.

Sheet Workforce
A1: Tutor recruitment and retention
A2: Initial | B2: =SUM(B3:B5) -> 0 | C2: Emerging | D2: =SUM(D3:D5) -> 0 | E2: Established | F2: =SUM(F3:F5) -> 0 | G2: Extending | H2: =SUM(H3:H5) -> 0
A3: A Partnership workforce plan is in place. | C3: Common requirements and expectations with regard to tutor qualifications and experience are agreed across the Partnership. | E3: Partners share tutor resource across the Partnership. | G3: New partners are identified and engaged to address gaps in workforce capacity, including industry partners and online learning providers.
C4: Regular staff surveys are undertaken across the Partnership to identify issues, concerns, and suggestions so that barriers to retention can be addressed. | E4: Workforce recruitment and retention is reviewed across the Partnerships along with a plan to highlight risk. | G4: The Partnership creates strategic links with other partnership areas to share workforce resources.
E5: Medium- to long-term recruitment planning is in place for the Partnership to help tackle anticipated future gaps, new skills needs, and to diversify the workforce | G5: The Partnership actively links with Educators Wales to make the most of opportunities around workforce recruitment.
A7: Continuous Professional Development (CPD)
A8: Initial | B8: =SUM(B9:B12) -> 0 | C8: Emerging | D8: =SUM(D9:D14) -> 0 | E8: Established | F8: =SUM(F9:F12) -> 0 | G8: Extending | H8: =SUM(H9:H14) -> 0
A9: Core partners agree to work together on professional development issues and some joint training takes place. | C9: Professional development needs are mapped across the Partnership. | E9: The Partnership-wide professional learning offer is informed by evidence of need from quality assurance and improvement activities. | G9: The Partnership agrees a minimum CPD requirement for all staff delivering on core provision
C10: Providers within the Partnership share good practice. | E10: Staff from all providers who deliver on the Partnership’s core provision have access to a common learning platform to share good practice, training and resources. | G10: The Partnership’s professional learning offer supports delivery of its strategic aims.
C11: The Partnership offers joint professional development opportunities to leaders, managers, tutors and other staff across the Partnership | E11: Core mandatory CPD, such as safeguarding and health & safety modules, are developed and offered collaboratively across the Partnership to make the best use of expertise and resources. | G11: The Partnership actively identifies opportunities for new areas of professional learning and opportunities to share knowledge across Wales, the UK and internationally.
E12: Staff from across the Partnership have opportunities to work collaboratively, for example on action research, coaching and mentoring, conferences and knowledge exchange. | G12: The Partnership works strategically with other partnership areas to share CPD resources regionally and nationally.
G13: The Partnership works strategically with other partnership areas to share professional learning resources regionally and nationally.
G14: The Partnership provides opportunities for peer learning amongst its tutor workforce.
